BEGIN:VCALENDAR
VERSION:2.0
PRODID:-//DJ LOLLO - ECPv6.15.20//NONSGML v1.0//EN
CALSCALE:GREGORIAN
METHOD:PUBLISH
X-WR-CALNAME:DJ LOLLO
X-ORIGINAL-URL:https://dj-lollo.de
X-WR-CALDESC:Veranstaltungen für DJ LOLLO
REFRESH-INTERVAL;VALUE=DURATION:PT1H
X-Robots-Tag:noindex
X-PUBLISHED-TTL:PT1H
BEGIN:VTIMEZONE
TZID:Europe/Berlin
BEGIN:DAYLIGHT
TZOFFSETFROM:+0100
TZOFFSETTO:+0200
TZNAME:CEST
DTSTART:20220327T010000
END:DAYLIGHT
BEGIN:STANDARD
TZOFFSETFROM:+0200
TZOFFSETTO:+0100
TZNAME:CET
DTSTART:20221030T010000
END:STANDARD
BEGIN:DAYLIGHT
TZOFFSETFROM:+0100
TZOFFSETTO:+0200
TZNAME:CEST
DTSTART:20230326T010000
END:DAYLIGHT
BEGIN:STANDARD
TZOFFSETFROM:+0200
TZOFFSETTO:+0100
TZNAME:CET
DTSTART:20231029T010000
END:STANDARD
BEGIN:DAYLIGHT
TZOFFSETFROM:+0100
TZOFFSETTO:+0200
TZNAME:CEST
DTSTART:20240331T010000
END:DAYLIGHT
BEGIN:STANDARD
TZOFFSETFROM:+0200
TZOFFSETTO:+0100
TZNAME:CET
DTSTART:20241027T010000
END:STANDARD
END:VTIMEZONE
BEGIN:VEVENT
DTSTART;TZID=Europe/Berlin:20230819T140000
DTEND;TZID=Europe/Berlin:20230819T230000
DTSTAMP:20260420T231206
CREATED:20230616T055207Z
LAST-MODIFIED:20230616T055207Z
UID:984-1692453600-1692486000@dj-lollo.de
SUMMARY:Schlagertraum 2023
DESCRIPTION:SCHLAGERTRAUM 2023 – Das Schlagerfestival\nAm 19. August 2023 wird das Aqua Magica Gelände der Hot Spot eines neuen\, großen und unvergesslichen Schlagerfestivals.\nAn diesem Tag heißt es: „Schlagertraum“ mit vielen bekannten Schlageracts.\nAngeführt wird das Line Up von der sympathischen Schweizer Sängerin Beatrice Egli. Mit Mickie Krause gastiert der Top Act aus der deutschen Party Schlager Szene in Bad Oeynhausen/Löhne. Stereoact ist eines der erfolgreichsten deutschen DJ Acts. Eine die ebenfalls auf so einem Event nicht fehlen darf ist die seit Jahren erfolgreiche Anna-Maria Zimmermann.\nDas achtstündige Programm vervollständigen Sonia Liebing\, Carsten Walter und Anna-Carina Woitschak. Weitere Künstler sind in Planung und werden später bekanntgegeben\n\nEinlass: 14:00 Uhr\nBeginn: 15:00 Uhr\nEnde 23:00 Uhr\n\nwww.schlagertraum.de/tickets\nVIP Tickets werden zu einem späteren Zeitpunkt angeboten. Reguläre Tickets können auf ein VIP Ticket upgegradet werden.\nDie Veranstaltung findet unter den Coronabedingungen statt\, welche zu dem Zeitpunkt der Veranstaltung gültig sind.\nVeranstalter:\nKWB Veranstaltungen – www.kwb-veranstaltungen.de
URL:https://dj-lollo.de/dates/schlagertraum-2023/
LOCATION:Aqua Magica Bad Oeynhausen\, Bültestraße 50\, Löhne\, 32584\, Deutschland
CATEGORIES:Schlager
ATTACH;FMTTYPE=image/jpeg:https://dj-lollo.de/wp-content/uploads/2023/06/314885178_106218808978561_6707528634099768845_n.jpg
END:VEVENT
END:VCALENDAR