BEGIN:VCALENDAR
VERSION:2.0
PRODID:-//DJ LOLLO - ECPv6.15.20//NONSGML v1.0//EN
CALSCALE:GREGORIAN
METHOD:PUBLISH
X-WR-CALNAME:DJ LOLLO
X-ORIGINAL-URL:https://dj-lollo.de
X-WR-CALDESC:Veranstaltungen für DJ LOLLO
REFRESH-INTERVAL;VALUE=DURATION:PT1H
X-Robots-Tag:noindex
X-PUBLISHED-TTL:PT1H
BEGIN:VTIMEZONE
TZID:Europe/Berlin
BEGIN:DAYLIGHT
TZOFFSETFROM:+0100
TZOFFSETTO:+0200
TZNAME:CEST
DTSTART:20230326T010000
END:DAYLIGHT
BEGIN:STANDARD
TZOFFSETFROM:+0200
TZOFFSETTO:+0100
TZNAME:CET
DTSTART:20231029T010000
END:STANDARD
BEGIN:DAYLIGHT
TZOFFSETFROM:+0100
TZOFFSETTO:+0200
TZNAME:CEST
DTSTART:20240331T010000
END:DAYLIGHT
BEGIN:STANDARD
TZOFFSETFROM:+0200
TZOFFSETTO:+0100
TZNAME:CET
DTSTART:20241027T010000
END:STANDARD
BEGIN:DAYLIGHT
TZOFFSETFROM:+0100
TZOFFSETTO:+0200
TZNAME:CEST
DTSTART:20250330T010000
END:DAYLIGHT
BEGIN:STANDARD
TZOFFSETFROM:+0200
TZOFFSETTO:+0100
TZNAME:CET
DTSTART:20251026T010000
END:STANDARD
END:VTIMEZONE
BEGIN:VEVENT
DTSTART;TZID=Europe/Berlin:20240301T210000
DTEND;TZID=Europe/Berlin:20240301T210000
DTSTAMP:20260421T090157
CREATED:20240131T150226Z
LAST-MODIFIED:20240131T150226Z
UID:1056-1709326800-1709326800@dj-lollo.de
SUMMARY:MALLORCA WARM-UP - Lorenz Büffel + Dj Lollo
DESCRIPTION:❤️🏝 MALLORCA WARM-UP 🏝❤️\nAm Freitag den 1.März starten wir das große Mallorca Warm-Up im MCT!\n🍻 Wir holen die originale Playa Stimmung nach Trockau und feiern eine wilde Sause mit guter Laune und deinen Lieblingssongs – 100% Mallorca Style‼️🔥 \nUm die Mallorca Eskalation ins MCT zu bringen\, haben wir keine Kosten und Mühen gescheut\, um es so richtig krachen zu lassen🥳 \nDieses Mal präsentieren wir euch Mallorca-Legende LORENZ BÜFFEL mit seinem Hit „JOHNNY DÄPP“\, „DER ZUG HAT KEINE BREMSE“\, „TRINKEN IST AUCH SPORT“\, usw. und eskalieren mit euch bis in die Morgenstunden! \nDazu DJ LOLLO der Party-Profi mit Eskalations-Garantie.\n100 Prozent Insel-Abriss gemixt aus einer grossen Portion Feier-Hits\, PartyMusik mit einer Prise Schlager. \nMacht euch bereit für eine aufregende Reise zur größten Party-Insel der Welt! 🦩 \n☀️ DIE XXL MALLE PARTY\n☀️ DIE BESTEN MALLE & PARTY HITS\n☀️ LIVE DABEI: LORENZ BÜFFEL\n☀️ BIER €2.50 BIS 0 UHR\n☀️ INSEL STYLE WODKA MAß NUR €18\n☀️ SANGRIA EIMER €10\n☀️ EIS 4FREE & GIVE-AWAYS\n☀️ MALLORCA DEKO\n☀️FREEDRINK AKTION: Alle die im crazy Insel-Outfit kommen\, erhalten ein Freigetränk ! \n♫ MUSIC ♫ \n▪︎▪︎▪︎ MAIN FLOOR ▪︎▪︎▪︎\nDie besten Malle & Partyhits\n👉🏻LIVE: LORENZ BÜFFEL\n👉🏻Support by: DJ LOLLO \n✘✘✘ TICKETS ✘✘✘\nin der MCT App oder unter https://www.mctrockau.de/events\nEarly Bird € 5\,90\nNormaler Vorverkauf: 7\,90€\nAbendkasse: 10\,00€ \n✘✘✘ INFOS ✘✘✘\n・ Datum: Freitag 1. März 2024\n・ Einlass ab 21 Uhr\n・ Musiccenter Trockau\n・ P16 mit www.partyzettel.de
URL:https://dj-lollo.de/dates/mallorca-warm-up-lorenz-bueffel-dj-lollo/
LOCATION:Musiccenter Trockau\, Bockshügel 1a\, Trockau\, Bayern\, 91257
CATEGORIES:Mallorca Party
ATTACH;FMTTYPE=image/jpeg:https://dj-lollo.de/wp-content/uploads/2024/01/mallorca-warmup-trockau-lorenz-bueffel-dj-lollo-240301.jpg
ORGANIZER;CN="Musiccenter Trockau":MAILTO:info@musiccentertrockau.de
END:VEVENT
END:VCALENDAR