BEGIN:VCALENDAR
VERSION:2.0
PRODID:-//DJ LOLLO - ECPv6.15.20//NONSGML v1.0//EN
CALSCALE:GREGORIAN
METHOD:PUBLISH
X-ORIGINAL-URL:https://dj-lollo.de
X-WR-CALDESC:Veranstaltungen für DJ LOLLO
REFRESH-INTERVAL;VALUE=DURATION:PT1H
X-Robots-Tag:noindex
X-PUBLISHED-TTL:PT1H
BEGIN:VTIMEZONE
TZID:Europe/Berlin
BEGIN:DAYLIGHT
TZOFFSETFROM:+0100
TZOFFSETTO:+0200
TZNAME:CEST
DTSTART:20250330T010000
END:DAYLIGHT
BEGIN:STANDARD
TZOFFSETFROM:+0200
TZOFFSETTO:+0100
TZNAME:CET
DTSTART:20251026T010000
END:STANDARD
BEGIN:DAYLIGHT
TZOFFSETFROM:+0100
TZOFFSETTO:+0200
TZNAME:CEST
DTSTART:20260329T010000
END:DAYLIGHT
BEGIN:STANDARD
TZOFFSETFROM:+0200
TZOFFSETTO:+0100
TZNAME:CET
DTSTART:20261025T010000
END:STANDARD
BEGIN:DAYLIGHT
TZOFFSETFROM:+0100
TZOFFSETTO:+0200
TZNAME:CEST
DTSTART:20270328T010000
END:DAYLIGHT
BEGIN:STANDARD
TZOFFSETFROM:+0200
TZOFFSETTO:+0100
TZNAME:CET
DTSTART:20271031T010000
END:STANDARD
END:VTIMEZONE
BEGIN:VEVENT
DTSTART;TZID=Europe/Berlin:20260724T190000
DTEND;TZID=Europe/Berlin:20260724T190000
DTSTAMP:20260420T184353
CREATED:20251210T215540Z
LAST-MODIFIED:20251210T215540Z
UID:1215-1784919600-1784919600@dj-lollo.de
SUMMARY:150 Jahre FFW Möhrendorf Malle Party
DESCRIPTION:🎉 Einladung zur Malle-Party! 🍹🌴\nDie Feuerwehr Möhrendorf feiert ihr 150-jähriges Jubiläum – und das lassen wir richtig krachen!\nKommt vorbei zur Malle-Party am 24. Juli 2026 und feiert mit uns.☀️🎶\n📅 Datum: 24.07.2026\n🕗 Beginn: 20:00 Uhr\n📍 Ort: Feuerwehrhaus Möhrendorf\nFreut euch auf sommerliche Drinks\, heiße Beats und jede Menge gute Laune – Malle-Feeling garantiert! 🏖️🍺\n➡️Mit Rumbombe\, Kings of Günter\, Hannes & DJ Lollo❕️\nZieht eure buntesten Outfits an und lasst uns gemeinsam 150 Jahre Feuerwehr Möhrendorf feiern! 🔥🚒
URL:https://dj-lollo.de/dates/150-jahre-ffw-moehrendorf-malle-party/
LOCATION:Festzelt Möhrendorf\, Erlanger Str. 15\, Möhrendorf\, 91096\, Germany
CATEGORIES:Mallorca Party
ATTACH;FMTTYPE=image/jpeg:https://dj-lollo.de/wp-content/uploads/2025/12/579198592_1152013190475535_721470201209400156_n.jpg
END:VEVENT
END:VCALENDAR