BEGIN:VCALENDAR
VERSION:2.0
PRODID:-//DJ LOLLO - ECPv6.15.20//NONSGML v1.0//EN
CALSCALE:GREGORIAN
METHOD:PUBLISH
X-WR-CALNAME:DJ LOLLO
X-ORIGINAL-URL:https://dj-lollo.de
X-WR-CALDESC:Veranstaltungen für DJ LOLLO
REFRESH-INTERVAL;VALUE=DURATION:PT1H
X-Robots-Tag:noindex
X-PUBLISHED-TTL:PT1H
BEGIN:VTIMEZONE
TZID:Europe/Berlin
BEGIN:DAYLIGHT
TZOFFSETFROM:+0100
TZOFFSETTO:+0200
TZNAME:CEST
DTSTART:20220327T010000
END:DAYLIGHT
BEGIN:STANDARD
TZOFFSETFROM:+0200
TZOFFSETTO:+0100
TZNAME:CET
DTSTART:20221030T010000
END:STANDARD
BEGIN:DAYLIGHT
TZOFFSETFROM:+0100
TZOFFSETTO:+0200
TZNAME:CEST
DTSTART:20230326T010000
END:DAYLIGHT
BEGIN:STANDARD
TZOFFSETFROM:+0200
TZOFFSETTO:+0100
TZNAME:CET
DTSTART:20231029T010000
END:STANDARD
BEGIN:DAYLIGHT
TZOFFSETFROM:+0100
TZOFFSETTO:+0200
TZNAME:CEST
DTSTART:20240331T010000
END:DAYLIGHT
BEGIN:STANDARD
TZOFFSETFROM:+0200
TZOFFSETTO:+0100
TZNAME:CET
DTSTART:20241027T010000
END:STANDARD
END:VTIMEZONE
BEGIN:VEVENT
DTSTART;TZID=Europe/Berlin:20231111T160000
DTEND;TZID=Europe/Berlin:20231111T170000
DTSTAMP:20260419T192529
CREATED:20230907T122738Z
LAST-MODIFIED:20230907T122738Z
UID:999-1699718400-1699722000@dj-lollo.de
SUMMARY:Die Schlagernacht des Jahres 2023 Berlin
DESCRIPTION:Die Schlagernacht des Jahres wartet in Berlin auch 2023 zum 25jährigen Jubiläum mit dem Who is Who der deutschen Schlagerszene auf. Top-Acts\, neue Superstars und Stimmungsgaranten sind regelmäßig mit von der Partie und versetzen das Publikum in den größten Arenen Deutschlands in Partystimmung.\nJede Schlagernacht des Jahres ist ein spektakuläres Erlebnis\, bei der dem Publikum eine perfekt abgestimmte Mischung aus neuen Hits und Klassikern\, von Gute-Laune-Musik bis zu den schönsten Balladen geboten wird\, die sechs Stunden lang zum Singen\, Tanzen und Mitfeiern einladen. \nBisher bestätigt: Anna-Maria Zimmermann\, Ben Zucker\, DJ Ötzi\, Eloy de Jong\, Eric Philippi\, Julian Reim\, Matthias Reim\, Michelle\, Olaf der Flipper\, Oli P.\, Pia Malo\, Stereoact\, Lena-Marie Engel\, Team 5ünf\, Voxxclub \nWarm-Up ab 16 Uhr mit DJ Lollo \n*Die angegebene Endzeit entspricht dem derzeitigen Stand. Änderungen sind vorbehalten.
URL:https://dj-lollo.de/dates/die-schlagernacht-des-jahres-2023-berlin/
LOCATION:Uber Arena\, Mercedes-Platz 1\, Berlin\, 10243
CATEGORIES:Schlager,Warm-Up
ATTACH;FMTTYPE=image/jpeg:https://dj-lollo.de/wp-content/uploads/2022/11/die-schlagernacht-des-jahres-2023.jpg
END:VEVENT
END:VCALENDAR